
BEGIN:VCALENDAR
VERSION:2.0
PRODID:-//MarkedsPartner AS//Umbraco CMS//NO
TIMEZONE-ID:Europe/Oslo
X-WR-TIMEZONE:Europe/Oslo


BEGIN:VEVENT
UID:3ae68cc7b34049bcab6f7d45cae7e2a3
URL:https://stavangernaering-2023.azurewebsites.net/en/events/archive/running-club_oct24/
ORGANIZER;CN=Ola Normann:MAILTO:ola.normann@markedspartner.no
DTSTAMP:20241026T083000Z
DTSTART:20241026T083000Z
DTEND:20241026T093000Z
LAST-MODIFIED:20241028T065119Z
SUMMARY:Social running club - 8K
DESCRIPTION:Welcome to the Stavanger Chamber International monthly running club - get to know your region - stay fit and socialize!
X-ALT-DESC:Welcome to the Stavanger Chamber International monthly running club - get to know your region - stay fit and socialize!
LOCATION:Stokkavannet 
END:VEVENT


END:VCALENDAR



