
BEGIN:VCALENDAR
VERSION:2.0
PRODID:-//MarkedsPartner AS//Umbraco CMS//NO
TIMEZONE-ID:Europe/Oslo
X-WR-TIMEZONE:Europe/Oslo


BEGIN:VEVENT
UID:89c4f185fd0d42aa949dc934ec136752
URL:https://stavangernaering-2023.azurewebsites.net/en/events/archive/running-club_mar25/
ORGANIZER;CN=Ola Normann:MAILTO:ola.normann@markedspartner.no
DTSTAMP:20250329T093000Z
DTSTART:20250329T093000Z
DTEND:20250329T110000Z
LAST-MODIFIED:20250331T060327Z
SUMMARY:Social running club - 8K
DESCRIPTION:Welcome to the Stavanger Chamber International running club - get to know your region - stay fit and socialize!
X-ALT-DESC:Welcome to the Stavanger Chamber International running club - get to know your region - stay fit and socialize!
LOCATION:Stokkavannet 
END:VEVENT


END:VCALENDAR



