
BEGIN:VCALENDAR
VERSION:2.0
PRODID:-//MarkedsPartner AS//Umbraco CMS//NO
TIMEZONE-ID:Europe/Oslo
X-WR-TIMEZONE:Europe/Oslo


BEGIN:VEVENT
UID:a4ea10bac97d44b0a0dfd93fcf591ffe
URL:https://stavangernaering-2023.azurewebsites.net/en/events/archive/running-club_apr25/
ORGANIZER;CN=Ola Normann:MAILTO:ola.normann@markedspartner.no
DTSTAMP:20250426T083000Z
DTSTART:20250426T083000Z
DTEND:20250426T100000Z
LAST-MODIFIED:20250428T080624Z
SUMMARY:Social running club - 8K
DESCRIPTION:Welcome to the Stavanger Chamber International running club - get to know your region - stay fit and socialize!
X-ALT-DESC:Welcome to the Stavanger Chamber International running club - get to know your region - stay fit and socialize!
LOCATION:Stokkavannet 
END:VEVENT


END:VCALENDAR



