
BEGIN:VCALENDAR
VERSION:2.0
PRODID:-//MarkedsPartner AS//Umbraco CMS//NO
TIMEZONE-ID:Europe/Oslo
X-WR-TIMEZONE:Europe/Oslo


BEGIN:VEVENT
UID:495f72039b454e948d1c73b8a06e6d9e
URL:https://stavangernaering-2023.azurewebsites.net/en/events/archive/running-club_231124/
ORGANIZER;CN=Ola Normann:MAILTO:ola.normann@markedspartner.no
DTSTAMP:20241123T093000Z
DTSTART:20241123T093000Z
DTEND:20241123T110000Z
LAST-MODIFIED:20241124T152803Z
SUMMARY:Social running club - 8K
DESCRIPTION:Welcome to the Stavanger Chamber International running club - get to know your region - stay fit and socialize!
X-ALT-DESC:Welcome to the Stavanger Chamber International running club - get to know your region - stay fit and socialize!
LOCATION:Stokkavannet 
END:VEVENT


END:VCALENDAR



