
BEGIN:VCALENDAR
VERSION:2.0
PRODID:-//MarkedsPartner AS//Umbraco CMS//NO
TIMEZONE-ID:Europe/Oslo
X-WR-TIMEZONE:Europe/Oslo


BEGIN:VEVENT
UID:1bbdf9bf18f64f67a54f5146a9488095
URL:https://stavangernaering-2023.azurewebsites.net/en/events/archive/rogaland-arboret_may2022/
ORGANIZER;CN=Ola Normann:MAILTO:ola.normann@markedspartner.no
DTSTAMP:20220524T160000Z
DTSTART:20220524T160000Z
DTEND:20220524T190000Z
LAST-MODIFIED:20220525T142000Z
SUMMARY:Visit  Rogaland Arboretum 
DESCRIPTION:What is more beautiful than when the flowers bloom? Join us for this visit to Rogaland Arboretum and their Rhododendron valley.
X-ALT-DESC:What is more beautiful than when the flowers bloom? Join us for this visit to Rogaland Arboretum and their Rhododendron valley.
LOCATION:Rogaland Arboret, Espelandveien 240, 4337 SANDNES
END:VEVENT


END:VCALENDAR



