
BEGIN:VCALENDAR
VERSION:2.0
PRODID:-//MarkedsPartner AS//Umbraco CMS//NO
TIMEZONE-ID:Europe/Oslo
X-WR-TIMEZONE:Europe/Oslo


BEGIN:VEVENT
UID:05bb0286a52848fc8907478102b3ebc5
URL:https://stavangernaering-2023.azurewebsites.net/en/events/archive/renting_25/
ORGANIZER;CN=Ola Normann:MAILTO:ola.normann@markedspartner.no
DTSTAMP:20250310T170000Z
DTSTART:20250310T170000Z
DTEND:20250310T190000Z
LAST-MODIFIED:20250311T125301Z
SUMMARY:Renting a property 
DESCRIPTION:What to keep in mind in the rental market with Relocation!
X-ALT-DESC:What to keep in mind in the rental market with Relocation!
LOCATION:Rosenkildehuset, Strandkaien 6, 4005 Stavanger
END:VEVENT


END:VCALENDAR



