
BEGIN:VCALENDAR
VERSION:2.0
PRODID:-//MarkedsPartner AS//Umbraco CMS//NO
TIMEZONE-ID:Europe/Oslo
X-WR-TIMEZONE:Europe/Oslo


BEGIN:VEVENT
UID:2e0d60cae8124efbbb5e9b246ee56a52
URL:https://stavangernaering-2023.azurewebsites.net/en/events/archive/renting_200824/
ORGANIZER;CN=Ola Normann:MAILTO:ola.normann@markedspartner.no
DTSTAMP:20240820T163000Z
DTSTART:20240820T163000Z
DTEND:20240820T183000Z
LAST-MODIFIED:20240821T064154Z
SUMMARY:Renting a property 
DESCRIPTION:What to keep in mind in the rental market with Relocation!
X-ALT-DESC:What to keep in mind in the rental market with Relocation!
LOCATION:Rosenkildehuset, Strandkaien 6, 4005 Stavanger
END:VEVENT


END:VCALENDAR



