
BEGIN:VCALENDAR
VERSION:2.0
PRODID:-//MarkedsPartner AS//Umbraco CMS//NO
TIMEZONE-ID:Europe/Oslo
X-WR-TIMEZONE:Europe/Oslo


BEGIN:VEVENT
UID:aabc3c00279841a3b335020a5711d322
URL:https://stavangernaering-2023.azurewebsites.net/en/events/archive/renting_200423/
ORGANIZER;CN=Ola Normann:MAILTO:ola.normann@markedspartner.no
DTSTAMP:20230502T163000Z
DTSTART:20230502T163000Z
DTEND:20230502T183000Z
LAST-MODIFIED:20230503T092028Z
SUMMARY:Tips and tricks for renting 
DESCRIPTION:What to keep in mind in the rental market with Relocation!
X-ALT-DESC:What to keep in mind in the rental market with Relocation!
LOCATION:Rosenkildehuset, Strandkaien 6, 4005 Stavanger
END:VEVENT


END:VCALENDAR



