
BEGIN:VCALENDAR
VERSION:2.0
PRODID:-//MarkedsPartner AS//Umbraco CMS//NO
TIMEZONE-ID:Europe/Oslo
X-WR-TIMEZONE:Europe/Oslo


BEGIN:VEVENT
UID:7861f3b6dabb45cd9c304a75555cf793
URL:https://stavangernaering-2023.azurewebsites.net/en/events/archive/renting-a-property_february-2022/
ORGANIZER;CN=Ola Normann:MAILTO:ola.normann@markedspartner.no
DTSTAMP:20220207T180000Z
DTSTART:20220207T180000Z
DTEND:20220207T191500Z
LAST-MODIFIED:20220207T193716Z
SUMMARY:Do’s and don'ts in the housing marked
DESCRIPTION:DIGITAL CONFERENCE:  Buying a property is a huge decision, depending on many factors. Should I buy or should I rent?
How could I keep the value of my property as high as possible, wether I rent it or being the owner.
X-ALT-DESC:DIGITAL CONFERENCE:  Buying a property is a huge decision, depending on many factors. Should I buy or should I rent?
How could I keep the value of my property as high as possible, wether I rent it or being the owner.
LOCATION:Digital conference in Teams
END:VEVENT


END:VCALENDAR



