
BEGIN:VCALENDAR
VERSION:2.0
PRODID:-//MarkedsPartner AS//Umbraco CMS//NO
TIMEZONE-ID:Europe/Oslo
X-WR-TIMEZONE:Europe/Oslo


BEGIN:VEVENT
UID:8e0527243f1f42fb96ff8b035ed871ac
URL:https://stavangernaering-2023.azurewebsites.net/en/events/archive/renting-a-property_240821/
ORGANIZER;CN=Ola Normann:MAILTO:ola.normann@markedspartner.no
DTSTAMP:20210930T163000Z
DTSTART:20210930T163000Z
DTEND:20210930T190000Z
LAST-MODIFIED:20210930T194004Z
SUMMARY:Do’s and don'ts in the rental marked
DESCRIPTION:Learn all you need to know a about renting a property in Norway.
X-ALT-DESC:Learn all you need to know a about renting a property in Norway.
LOCATION:Rosenkildehuset
END:VEVENT


END:VCALENDAR



