
BEGIN:VCALENDAR
VERSION:2.0
PRODID:-//MarkedsPartner AS//Umbraco CMS//NO
TIMEZONE-ID:Europe/Oslo
X-WR-TIMEZONE:Europe/Oslo


BEGIN:VEVENT
UID:59296004180e46988ea77151c0065b84
URL:https://stavangernaering-2023.azurewebsites.net/en/events/archive/renting-a-property_040221/
ORGANIZER;CN=Ola Normann:MAILTO:ola.normann@markedspartner.no
DTSTAMP:20210204T180000Z
DTSTART:20210204T180000Z
DTEND:20210204T193000Z
LAST-MODIFIED:20210531T135143Z
SUMMARY:Do’s and don'ts in the rental marked
DESCRIPTION:Learn all you need to know a about renting a property in Norway.
X-ALT-DESC:Learn all you need to know a about renting a property in Norway.
LOCATION:Webinar
END:VEVENT


END:VCALENDAR



