
BEGIN:VCALENDAR
VERSION:2.0
PRODID:-//MarkedsPartner AS//Umbraco CMS//NO
TIMEZONE-ID:Europe/Oslo
X-WR-TIMEZONE:Europe/Oslo


BEGIN:VEVENT
UID:91b1778408c744bea975281f668387f7
URL:https://stavangernaering-2023.azurewebsites.net/en/events/archive/quiz-paa-martinique-110923/
ORGANIZER;CN=Ola Normann:MAILTO:ola.normann@markedspartner.no
DTSTAMP:20230911T173000Z
DTSTART:20230911T173000Z
DTEND:20230911T200000Z
LAST-MODIFIED:20230912T060051Z
SUMMARY:Quiz night at Martinique 
DESCRIPTION:Join us for a social night at Martinique - with a fun quiz!
X-ALT-DESC:Join us for a social night at Martinique - with a fun quiz!
LOCATION:Martinique, Nytorget 14, 4013 Stavanger 
END:VEVENT


END:VCALENDAR



