
BEGIN:VCALENDAR
VERSION:2.0
PRODID:-//MarkedsPartner AS//Umbraco CMS//NO
TIMEZONE-ID:Europe/Oslo
X-WR-TIMEZONE:Europe/Oslo


BEGIN:VEVENT
UID:d1a7fd4922324bc689bfda9f4f64dbc0
URL:https://stavangernaering-2023.azurewebsites.net/en/events/archive/quiz-night-blaaveis_nov23/
ORGANIZER;CN=Ola Normann:MAILTO:ola.normann@markedspartner.no
DTSTAMP:20231129T173000Z
DTSTART:20231129T173000Z
DTEND:20231129T200000Z
LAST-MODIFIED:20231130T155021Z
SUMMARY:Quiz night at Blåveis 
DESCRIPTION:Welcome to a new quiz night at Blåveis on anything between heaven and earth!
X-ALT-DESC:Welcome to a new quiz night at Bl&#229;veis on anything between heaven and earth!
LOCATION:S&#248;regata 22, 4006 Stavanger
END:VEVENT


END:VCALENDAR



