
BEGIN:VCALENDAR
VERSION:2.0
PRODID:-//MarkedsPartner AS//Umbraco CMS//NO
TIMEZONE-ID:Europe/Oslo
X-WR-TIMEZONE:Europe/Oslo


BEGIN:VEVENT
UID:3fcb96128b8b475aa7b83f88f96c84a3
URL:https://stavangernaering-2023.azurewebsites.net/en/events/archive/private-economy_230321/
ORGANIZER;CN=Ola Normann:MAILTO:ola.normann@markedspartner.no
DTSTAMP:20210323T180000Z
DTSTART:20210323T180000Z
DTEND:20210323T191500Z
LAST-MODIFIED:20210323T192522Z
SUMMARY:Private economy 
DESCRIPTION:VIRTUAL CONFERENCE: How to make the best choices in the long run for an international family. Moving to a new country means many new impressions, both in culture and daily life. Personal finance is one of many new elements that requires focus to make sure the right choices are made.
X-ALT-DESC:VIRTUAL CONFERENCE: How to make the best choices in the long run for an international family. Moving to a new country means many new impressions, both in culture and daily life. Personal finance is one of many new elements that requires focus to make sure the right choices are made.
LOCATION:Virtual conference
END:VEVENT


END:VCALENDAR



