
BEGIN:VCALENDAR
VERSION:2.0
PRODID:-//MarkedsPartner AS//Umbraco CMS//NO
TIMEZONE-ID:Europe/Oslo
X-WR-TIMEZONE:Europe/Oslo


BEGIN:VEVENT
UID:6945b4cab2ca4be19be7b7cc61337da7
URL:https://stavangernaering-2023.azurewebsites.net/en/events/archive/private-economy_051021/
ORGANIZER;CN=Ola Normann:MAILTO:ola.normann@markedspartner.no
DTSTAMP:20211005T170000Z
DTSTART:20211005T170000Z
DTEND:20211005T190000Z
LAST-MODIFIED:20211006T183652Z
SUMMARY:Private economy 
DESCRIPTION:Personal finance is one of many new elements that requires focus to make sure the right choices are made.
X-ALT-DESC:Personal finance is one of many new elements that requires focus to make sure the right choices are made.
LOCATION:Rosenkildehuset
END:VEVENT


END:VCALENDAR



