
BEGIN:VCALENDAR
VERSION:2.0
PRODID:-//MarkedsPartner AS//Umbraco CMS//NO
TIMEZONE-ID:Europe/Oslo
X-WR-TIMEZONE:Europe/Oslo


BEGIN:VEVENT
UID:6f0204bc2bfe4c6eb9205b537fa26b4e
URL:https://stavangernaering-2023.azurewebsites.net/en/events/archive/private-economy/
ORGANIZER;CN=Ola Normann:MAILTO:ola.normann@markedspartner.no
DTSTAMP:20200128T173000Z
DTSTART:20200128T173000Z
DTEND:20200128T193000Z
LAST-MODIFIED:20200612T113328Z
SUMMARY:Private economy
DESCRIPTION:How to make the best choices in the long run for an international family.
Moving to a new country means many new impressions, both in culture and daily life.
Personal finance is one of many new elements that requires focus to make sure the right choices are made.
X-ALT-DESC:How to make the best choices in the long run for an international family.
Moving to a new country means many new impressions, both in culture and daily life.
Personal finance is one of many new elements that requires focus to make sure the right choices are made.
LOCATION:Rosenkildehuset
END:VEVENT


END:VCALENDAR



