
BEGIN:VCALENDAR
VERSION:2.0
PRODID:-//MarkedsPartner AS//Umbraco CMS//NO
TIMEZONE-ID:Europe/Oslo
X-WR-TIMEZONE:Europe/Oslo


BEGIN:VEVENT
UID:0a8d6e789c8d4a5f8b0452b4c956d378
URL:https://stavangernaering-2023.azurewebsites.net/en/events/archive/private-economy-2025/
ORGANIZER;CN=Ola Normann:MAILTO:ola.normann@markedspartner.no
DTSTAMP:20240923T160000Z
DTSTART:20240923T160000Z
DTEND:20240923T180000Z
LAST-MODIFIED:20250606T083120Z
SUMMARY:Private economy and saving tips
DESCRIPTION:Economic conditions are one of many elements and parts of a culture that one must consider when establishing a life in a new country. At this event  you will be given  numerous tips and advice on regional and national conditions and trends that can impact your finances.
X-ALT-DESC:Economic conditions are one of many elements and parts of a culture that one must consider when establishing a life in a new country. At this event  you will be given  numerous tips and advice on regional and national conditions and trends that can impact your finances.
LOCATION:Rosenkildehhuset 
END:VEVENT


END:VCALENDAR



