
BEGIN:VCALENDAR
VERSION:2.0
PRODID:-//MarkedsPartner AS//Umbraco CMS//NO
TIMEZONE-ID:Europe/Oslo
X-WR-TIMEZONE:Europe/Oslo


BEGIN:VEVENT
UID:477e16f2954543b3b82fae14c5ced96b
URL:https://stavangernaering-2023.azurewebsites.net/en/events/archive/pre-christmas_dec2024/
ORGANIZER;CN=Ola Normann:MAILTO:ola.normann@markedspartner.no
DTSTAMP:20231201T173000Z
DTSTART:20231201T173000Z
DTEND:20231201T210000Z
LAST-MODIFIED:20231203T175652Z
SUMMARY:Pre-Christmas Fun & Friendship
DESCRIPTION:Welcome to an informal pre-Christmas gathering with Christmas porridge, mulled wine and cakes.
X-ALT-DESC:Welcome to an informal pre-Christmas gathering with Christmas porridge, mulled wine and cakes.
LOCATION:Rosenkildehuset
END:VEVENT


END:VCALENDAR



