
BEGIN:VCALENDAR
VERSION:2.0
PRODID:-//MarkedsPartner AS//Umbraco CMS//NO
TIMEZONE-ID:Europe/Oslo
X-WR-TIMEZONE:Europe/Oslo


BEGIN:VEVENT
UID:f253b4db676b42b29ca904b1e94f9a40
URL:https://stavangernaering-2023.azurewebsites.net/en/events/archive/poengjakt_aug24/
ORGANIZER;CN=Ola Normann:MAILTO:ola.normann@markedspartner.no
DTSTAMP:20240828T163000Z
DTSTART:20240828T163000Z
DTEND:20240828T190000Z
LAST-MODIFIED:20240830T074534Z
SUMMARY:Scavanger hunt and ONS Concert - Dagny!
DESCRIPTION:Hunt for clues, complete group challenges and get to network all at once. Followed by the ONS 2024 concert - Dagny!
X-ALT-DESC:Hunt for clues, complete group challenges and get to network all at once. Followed by the ONS 2024 concert - Dagny!
LOCATION:City center 
END:VEVENT


END:VCALENDAR



