
BEGIN:VCALENDAR
VERSION:2.0
PRODID:-//MarkedsPartner AS//Umbraco CMS//NO
TIMEZONE-ID:Europe/Oslo
X-WR-TIMEZONE:Europe/Oslo


BEGIN:VEVENT
UID:a24da561572d40a9ba702ba60af92977
URL:https://stavangernaering-2023.azurewebsites.net/en/events/archive/pint-of-science_may2024/
ORGANIZER;CN=Ola Normann:MAILTO:ola.normann@markedspartner.no
DTSTAMP:20240513T170000Z
DTSTART:20240513T170000Z
DTEND:20240513T170000Z
LAST-MODIFIED:20240521T054115Z
SUMMARY:Pint of Science 2024
DESCRIPTION:The Pint of Science festival aims at delivering exciting and engaging talks on the latest science and research discoveries in an accessible and fun format to the public – all at a pub!
X-ALT-DESC:The Pint of Science festival aims at delivering exciting and engaging talks on the latest science and research discoveries in an accessible and fun format to the public – all at a pub!
LOCATION:Bl&#229;veis 
END:VEVENT


END:VCALENDAR



