
BEGIN:VCALENDAR
VERSION:2.0
PRODID:-//MarkedsPartner AS//Umbraco CMS//NO
TIMEZONE-ID:Europe/Oslo
X-WR-TIMEZONE:Europe/Oslo


BEGIN:VEVENT
UID:0c7a5c94e2004a33b441feb310b226f0
URL:https://stavangernaering-2023.azurewebsites.net/en/events/archive/pension_oktober-2023-1/
ORGANIZER;CN=Ola Normann:MAILTO:ola.normann@markedspartner.no
DTSTAMP:20241024T163000Z
DTSTART:20241024T163000Z
DTEND:20241024T190000Z
LAST-MODIFIED:20241028T065059Z
SUMMARY:Pension rights in Norway
DESCRIPTION:At this event Helen Totland from EY will speak about the Norwegian pension system, and how you might be able to benefit from the Norwegian program.
X-ALT-DESC:At this event Helen Totland from EY will speak about the Norwegian pension system, and how you might be able to benefit from the Norwegian program.
LOCATION:Rosenkildehuset, Strandkaien 6, 4005 Stavanger
END:VEVENT


END:VCALENDAR



