
BEGIN:VCALENDAR
VERSION:2.0
PRODID:-//MarkedsPartner AS//Umbraco CMS//NO
TIMEZONE-ID:Europe/Oslo
X-WR-TIMEZONE:Europe/Oslo


BEGIN:VEVENT
UID:41ab8afff4ad4459bcf90835a1bea1bd
URL:https://stavangernaering-2023.azurewebsites.net/en/events/archive/pension_oktober-2022/
ORGANIZER;CN=Ola Normann:MAILTO:ola.normann@markedspartner.no
DTSTAMP:20221026T163000Z
DTSTART:20221026T163000Z
DTEND:20221026T190000Z
LAST-MODIFIED:20221027T094629Z
SUMMARY:Do you know your pension rights in Norway?
DESCRIPTION:At this event Helen Christensen from EY will speak about the Norwegian pension system, and how you might be able to benefit from the Norwegian program.
X-ALT-DESC:At this event Helen Christensen from EY will speak about the Norwegian pension system, and how you might be able to benefit from the Norwegian program.
LOCATION:Rosenkildehuset, Strandkaien 6, 4005 Stavanger
END:VEVENT


END:VCALENDAR



