
BEGIN:VCALENDAR
VERSION:2.0
PRODID:-//MarkedsPartner AS//Umbraco CMS//NO
TIMEZONE-ID:Europe/Oslo
X-WR-TIMEZONE:Europe/Oslo


BEGIN:VEVENT
UID:491bf23c45294a3aa8330228e23502bd
URL:https://stavangernaering-2023.azurewebsites.net/en/events/archive/pension_november23/
ORGANIZER;CN=Ola Normann:MAILTO:ola.normann@markedspartner.no
DTSTAMP:20231127T173000Z
DTSTART:20231127T173000Z
DTEND:20231127T200000Z
LAST-MODIFIED:20231127T175613Z
SUMMARY:Do you know your pension rights in Norway?
DESCRIPTION:At this event Helen Totland from EY will speak about the Norwegian pension system, and how you might be able to benefit from the Norwegian program.
X-ALT-DESC:At this event Helen Totland from EY will speak about the Norwegian pension system, and how you might be able to benefit from the Norwegian program.
LOCATION:Rosenkildehuset, Strandkaien 6, 4005 Stavanger
END:VEVENT


END:VCALENDAR



