
BEGIN:VCALENDAR
VERSION:2.0
PRODID:-//MarkedsPartner AS//Umbraco CMS//NO
TIMEZONE-ID:Europe/Oslo
X-WR-TIMEZONE:Europe/Oslo


BEGIN:VEVENT
UID:c31c676bb0b642fc83ef64aa36bb4cc8
URL:https://stavangernaering-2023.azurewebsites.net/en/events/archive/pension_261021-1/
ORGANIZER;CN=Ola Normann:MAILTO:ola.normann@markedspartner.no
DTSTAMP:20211026T163000Z
DTSTART:20211026T163000Z
DTEND:20211026T190000Z
LAST-MODIFIED:20211026T200112Z
SUMMARY:Pension rights in Norway
DESCRIPTION:Do you know your pension rights in Norway?
X-ALT-DESC:Do you know your pension rights in Norway?
LOCATION:Rosenkildehuset
END:VEVENT


END:VCALENDAR



