
BEGIN:VCALENDAR
VERSION:2.0
PRODID:-//MarkedsPartner AS//Umbraco CMS//NO
TIMEZONE-ID:Europe/Oslo
X-WR-TIMEZONE:Europe/Oslo


BEGIN:VEVENT
UID:622afd22050c4fe0b822e3547a7701da
URL:https://stavangernaering-2023.azurewebsites.net/en/events/archive/pension_101120/
ORGANIZER;CN=Ola Normann:MAILTO:ola.normann@markedspartner.no
DTSTAMP:20201110T174000Z
DTSTART:20201110T174000Z
DTEND:20201110T193500Z
LAST-MODIFIED:20201110T200045Z
SUMMARY:Webinar: Do you know your pension rights in Norway?
DESCRIPTION:At this webinar Helen Christensen from EY will speak about the Norwegian pension system, and how you might be able to benefit from the Norwegian program.
X-ALT-DESC:At this webinar Helen Christensen from EY will speak about the Norwegian pension system, and how you might be able to benefit from the Norwegian program.
LOCATION:Webinar
END:VEVENT


END:VCALENDAR



