
BEGIN:VCALENDAR
VERSION:2.0
PRODID:-//MarkedsPartner AS//Umbraco CMS//NO
TIMEZONE-ID:Europe/Oslo
X-WR-TIMEZONE:Europe/Oslo


BEGIN:VEVENT
UID:0a180ef82c914e51ac68ff177536b342
URL:https://stavangernaering-2023.azurewebsites.net/en/events/archive/outdoor-life-summer-_-may2023/
ORGANIZER;CN=Ola Normann:MAILTO:ola.normann@markedspartner.no
DTSTAMP:20230523T160000Z
DTSTART:20230523T160000Z
DTEND:20230523T183000Z
LAST-MODIFIED:20230525T055124Z
SUMMARY:Camping essentials 
DESCRIPTION:Get ready for the camping season. At this event we will share useful information you need for your next camping trip. Covering everything from hiking, what safety gear to bring to sleeping outdoors.
X-ALT-DESC:Get ready for the camping season. At this event we will share useful information you need for your next camping trip. Covering everything from hiking, what safety gear to bring to sleeping outdoors.
LOCATION:Speidermarka, Krossbergveien 110
END:VEVENT


END:VCALENDAR



