
BEGIN:VCALENDAR
VERSION:2.0
PRODID:-//MarkedsPartner AS//Umbraco CMS//NO
TIMEZONE-ID:Europe/Oslo
X-WR-TIMEZONE:Europe/Oslo


BEGIN:VEVENT
UID:628abea1dfcb4b2a857d2ea7eca59e67
URL:https://stavangernaering-2023.azurewebsites.net/en/events/archive/our-must-do-travel-guide-summertime-in-norway/
ORGANIZER;CN=Ola Normann:MAILTO:ola.normann@markedspartner.no
DTSTAMP:20210408T170000Z
DTSTART:20210408T170000Z
DTEND:20210408T181500Z
LAST-MODIFIED:20210408T181733Z
SUMMARY:Summertime in Norway 
DESCRIPTION:DIGITAL CONFERENCE: Please join us for this  "must do" travel tips event. There is so much to discover in this region as well as further afield.
X-ALT-DESC:DIGITAL CONFERENCE: Please join us for this  &quot;must do&quot; travel tips event. There is so much to discover in this region as well as further afield.
LOCATION:Online
END:VEVENT


END:VCALENDAR



