
BEGIN:VCALENDAR
VERSION:2.0
PRODID:-//MarkedsPartner AS//Umbraco CMS//NO
TIMEZONE-ID:Europe/Oslo
X-WR-TIMEZONE:Europe/Oslo


BEGIN:VEVENT
UID:2d1ad269c6c447acab2d802ffb3e5f2e
URL:https://stavangernaering-2023.azurewebsites.net/en/events/archive/otd-energy_201021/
ORGANIZER;CN=Ola Normann:MAILTO:ola.normann@markedspartner.no
DTSTAMP:20211020T070000Z
DTSTART:20211020T070000Z
DTEND:20211020T160000Z
LAST-MODIFIED:20211021T131510Z
SUMMARY:OTD Energy 2021 - Exhibition
DESCRIPTION:Exhibition and conferences from October 19 - 21
X-ALT-DESC:Exhibition and conferences from October 19 - 21
LOCATION:Stavanger Forum,  Hall B,  C and E
END:VEVENT


END:VCALENDAR



