
BEGIN:VCALENDAR
VERSION:2.0
PRODID:-//MarkedsPartner AS//Umbraco CMS//NO
TIMEZONE-ID:Europe/Oslo
X-WR-TIMEZONE:Europe/Oslo


BEGIN:VEVENT
UID:c593e9ee80dc41789f84f3a54b7da0a5
URL:https://stavangernaering-2023.azurewebsites.net/en/events/archive/ons-young-talk/
ORGANIZER;CN=Ola Normann:MAILTO:ola.normann@markedspartner.no
DTSTAMP:20210608T163000Z
DTSTART:20210608T163000Z
DTEND:20210608T180000Z
LAST-MODIFIED:20210610T082726Z
SUMMARY:Future work life: A dialog between generations
DESCRIPTION:DIGITAL CONFERENCE: Generations talk a lot about each other and express expectations, but less often do they actually come together in dialogue. We want to challenge this!
X-ALT-DESC:DIGITAL CONFERENCE: Generations talk a lot about each other and express expectations, but less often do they actually come together in dialogue. We want to challenge this!
LOCATION:online
END:VEVENT


END:VCALENDAR



