
BEGIN:VCALENDAR
VERSION:2.0
PRODID:-//MarkedsPartner AS//Umbraco CMS//NO
TIMEZONE-ID:Europe/Oslo
X-WR-TIMEZONE:Europe/Oslo


BEGIN:VEVENT
UID:b2f61a4832ec4247a8e62d5905f0d84f
URL:https://stavangernaering-2023.azurewebsites.net/en/events/archive/ons-talk/
ORGANIZER;CN=Ola Normann:MAILTO:ola.normann@markedspartner.no
DTSTAMP:20200616T120000Z
DTSTART:20200616T120000Z
DTEND:20200616T130000Z
LAST-MODIFIED:20200619T064616Z
SUMMARY:ONS Energy talk: corporate venture capital
DESCRIPTION:Join and meet our guest, Kirk Coburn, Investment Director at Shell Ventures. An active investor, energy entrepreneur and start-up advocate, Mr. Coburn will share his his insights on corporate venture capital.
X-ALT-DESC:Join and meet our guest, Kirk Coburn, Investment Director at Shell Ventures. An active investor, energy entrepreneur and start-up advocate, Mr. Coburn will share his his insights on corporate venture capital.
LOCATION:Online
END:VEVENT


END:VCALENDAR



