
BEGIN:VCALENDAR
VERSION:2.0
PRODID:-//MarkedsPartner AS//Umbraco CMS//NO
TIMEZONE-ID:Europe/Oslo
X-WR-TIMEZONE:Europe/Oslo


BEGIN:VEVENT
UID:e99acee4966b4b7d92e0ed1f27f7c06d
URL:https://stavangernaering-2023.azurewebsites.net/en/events/archive/norwegian-political-system_2025/
ORGANIZER;CN=Ola Normann:MAILTO:ola.normann@markedspartner.no
DTSTAMP:20250312T170000Z
DTSTART:20250312T170000Z
DTEND:20250312T190000Z
LAST-MODIFIED:20250312T191925Z
SUMMARY: The Norwegian Political System
DESCRIPTION:Join us for an informative session where we’ll explore these distinctive elements of Norwegian governance and society.
X-ALT-DESC:Join us for an informative session where we’ll explore these distinctive elements of Norwegian governance and society.
LOCATION:Rosenkildehuset
END:VEVENT


END:VCALENDAR



