
BEGIN:VCALENDAR
VERSION:2.0
PRODID:-//MarkedsPartner AS//Umbraco CMS//NO
TIMEZONE-ID:Europe/Oslo
X-WR-TIMEZONE:Europe/Oslo


BEGIN:VEVENT
UID:4f09000c6f3440fa8c715e2979b036fe
URL:https://stavangernaering-2023.azurewebsites.net/en/events/archive/norwegian-political-system_2024/
ORGANIZER;CN=Ola Normann:MAILTO:ola.normann@markedspartner.no
DTSTAMP:20241112T170000Z
DTSTART:20241112T170000Z
DTEND:20241112T190000Z
LAST-MODIFIED:20241113T142837Z
SUMMARY: The Norwegian Political System
DESCRIPTION:Join us for an informative session where we’ll explore these distinctive elements of Norwegian governance and society.
X-ALT-DESC:Join us for an informative session where we’ll explore these distinctive elements of Norwegian governance and society.
LOCATION:Rosenkildehuset
END:VEVENT


END:VCALENDAR



