
BEGIN:VCALENDAR
VERSION:2.0
PRODID:-//MarkedsPartner AS//Umbraco CMS//NO
TIMEZONE-ID:Europe/Oslo
X-WR-TIMEZONE:Europe/Oslo


BEGIN:VEVENT
UID:e79096b553ff410eab183e6887a7d5e3
URL:https://stavangernaering-2023.azurewebsites.net/en/events/archive/norwegian-language_230221/
ORGANIZER;CN=Ola Normann:MAILTO:ola.normann@markedspartner.no
DTSTAMP:20210223T180000Z
DTSTART:20210223T180000Z
DTEND:20210223T191500Z
LAST-MODIFIED:20210223T194748Z
SUMMARY:Norwegian skills
DESCRIPTION:VIRTUAL CONFERENCE:  The value of Norwegian language skills and tips on how to get started.
X-ALT-DESC:VIRTUAL CONFERENCE:  The value of Norwegian language skills and tips on how to get started.
LOCATION:Virtual conference
END:VEVENT


END:VCALENDAR



