
BEGIN:VCALENDAR
VERSION:2.0
PRODID:-//MarkedsPartner AS//Umbraco CMS//NO
TIMEZONE-ID:Europe/Oslo
X-WR-TIMEZONE:Europe/Oslo


BEGIN:VEVENT
UID:b4c263c2bac641be91144b6704534b91
URL:https://stavangernaering-2023.azurewebsites.net/en/events/archive/norwegian-history_2025/
ORGANIZER;CN=Ola Normann:MAILTO:ola.normann@markedspartner.no
DTSTAMP:20250318T170000Z
DTSTART:20250318T170000Z
DTEND:20250318T190000Z
LAST-MODIFIED:20250318T192812Z
SUMMARY:The fascinating world of Vikings 
DESCRIPTION:This is a wonderful opportunity for you to attend an engaging evening that will dive into the rich art, culture, and history of the Viking Age.
X-ALT-DESC:This is a wonderful opportunity for you to attend an engaging evening that will dive into the rich&#160;art, culture, and history&#160;of the Viking Age.
LOCATION:Rosenkildehuset
END:VEVENT


END:VCALENDAR



