
BEGIN:VCALENDAR
VERSION:2.0
PRODID:-//MarkedsPartner AS//Umbraco CMS//NO
TIMEZONE-ID:Europe/Oslo
X-WR-TIMEZONE:Europe/Oslo


BEGIN:VEVENT
UID:169cfc73393143d1b3f2614fac0abc3f
URL:https://stavangernaering-2023.azurewebsites.net/en/events/archive/norwegian-history_2024/
ORGANIZER;CN=Ola Normann:MAILTO:ola.normann@markedspartner.no
DTSTAMP:20241106T170000Z
DTSTART:20241106T170000Z
DTEND:20241106T193000Z
LAST-MODIFIED:20241107T155039Z
SUMMARY:The fascinating world of Vikings 
DESCRIPTION:This is a wonderful opportunity for you to attend an engaging evening that will dive into the rich art, culture, and history of the Viking Age.
X-ALT-DESC:This is a wonderful opportunity for you to attend an engaging evening that will dive into the rich&#160;art, culture, and history&#160;of the Viking Age.
LOCATION:Rosenkildehuset
END:VEVENT


END:VCALENDAR



