
BEGIN:VCALENDAR
VERSION:2.0
PRODID:-//MarkedsPartner AS//Umbraco CMS//NO
TIMEZONE-ID:Europe/Oslo
X-WR-TIMEZONE:Europe/Oslo


BEGIN:VEVENT
UID:92330b64dc804f9fbb0b96ed4a4c4b80
URL:https://stavangernaering-2023.azurewebsites.net/en/events/archive/norwegian-energy-week_071220/
ORGANIZER;CN=Ola Normann:MAILTO:ola.normann@markedspartner.no
DTSTAMP:20201207T150000Z
DTSTART:20201207T150000Z
DTEND:20201207T170000Z
LAST-MODIFIED:20201208T112113Z
SUMMARY:Norwegian Energy Week - live webcast Houston
DESCRIPTION:The Royal Norwegian Consulate General in Houston, Innovation Norway and Norwegian Energy Partners have the pleasure of welcoming you to a week of exploring challenges and opportunities in collaborating for a sustainable energy future.
X-ALT-DESC:The Royal Norwegian Consulate General in Houston, Innovation Norway and Norwegian Energy Partners have the pleasure of welcoming you to a week of exploring challenges and opportunities in collaborating for a sustainable energy future.
LOCATION:Live webcast
END:VEVENT


END:VCALENDAR



