
BEGIN:VCALENDAR
VERSION:2.0
PRODID:-//MarkedsPartner AS//Umbraco CMS//NO
TIMEZONE-ID:Europe/Oslo
X-WR-TIMEZONE:Europe/Oslo


BEGIN:VEVENT
UID:ba6778c875fa4bf2ab6e7e063c9f5625
URL:https://stavangernaering-2023.azurewebsites.net/en/events/archive/norwegian-employment-law_201020/
ORGANIZER;CN=Ola Normann:MAILTO:ola.normann@markedspartner.no
DTSTAMP:20201020T163000Z
DTSTART:20201020T163000Z
DTEND:20201020T183000Z
LAST-MODIFIED:20201021T063902Z
SUMMARY:Norwegian Employment Law
DESCRIPTION:Working in a new country can lead to lots of challenges if you don't have all the facts. During this informative session you'll be given the information you need to have a successful transition into Norwegian working life.
X-ALT-DESC:Working in a new country can lead to lots of challenges if you don&#39;t have all the facts. During this informative session you&#39;ll be given the information you need to have a successful transition into Norwegian working life.
LOCATION:Rosenkildehuset
END:VEVENT


END:VCALENDAR



