
BEGIN:VCALENDAR
VERSION:2.0
PRODID:-//MarkedsPartner AS//Umbraco CMS//NO
TIMEZONE-ID:Europe/Oslo
X-WR-TIMEZONE:Europe/Oslo


BEGIN:VEVENT
UID:8f46f5fc7a8646ecb4c72256eaa18042
URL:https://stavangernaering-2023.azurewebsites.net/en/events/archive/newyear_consert7114/
ORGANIZER;CN=Ola Normann:MAILTO:ola.normann@markedspartner.no
DTSTAMP:20240107T170000Z
DTSTART:20240107T170000Z
DTEND:20240107T191000Z
LAST-MODIFIED:20240108T171802Z
SUMMARY:New Year's concert with Stavanger Symphony Orchestra
DESCRIPTION:The Stavanger Symphony Orchestra’s annual New Year’s Concert is a proud tradition. We are pleased to invite you along to this unique experience.
X-ALT-DESC:The Stavanger Symphony Orchestra’s annual New Year’s Concert is a proud tradition. We are pleased to invite you along to this unique experience.
LOCATION:Fartein Valen, Stavanger Concert Hall
END:VEVENT


END:VCALENDAR



