
BEGIN:VCALENDAR
VERSION:2.0
PRODID:-//MarkedsPartner AS//Umbraco CMS//NO
TIMEZONE-ID:Europe/Oslo
X-WR-TIMEZONE:Europe/Oslo


BEGIN:VEVENT
UID:34bd107f29b34ee4a2b4625644d01ca8
URL:https://stavangernaering-2023.azurewebsites.net/en/events/archive/new-in-town_140121/
ORGANIZER;CN=Ola Normann:MAILTO:ola.normann@markedspartner.no
DTSTAMP:20210114T180000Z
DTSTART:20210114T180000Z
DTEND:20210114T192000Z
LAST-MODIFIED:20210114T193740Z
SUMMARY:New in Town
DESCRIPTION:WEBINAR: New hobbies and new friendships are crucial to well-being as a newcomer.
X-ALT-DESC:WEBINAR: New hobbies and new friendships are crucial to well-being as a newcomer.
LOCATION:Virtual conference
END:VEVENT


END:VCALENDAR



