
BEGIN:VCALENDAR
VERSION:2.0
PRODID:-//MarkedsPartner AS//Umbraco CMS//NO
TIMEZONE-ID:Europe/Oslo
X-WR-TIMEZONE:Europe/Oslo


BEGIN:VEVENT
UID:f4172b123c7948c291463b93b005e9a6
URL:https://stavangernaering-2023.azurewebsites.net/en/events/archive/new-in-town/
ORGANIZER;CN=Ola Normann:MAILTO:ola.normann@markedspartner.no
DTSTAMP:20200116T173000Z
DTSTART:20200116T173000Z
DTEND:20200116T200000Z
LAST-MODIFIED:20200612T113328Z
SUMMARY:New in town
DESCRIPTION:Stavanger has inhabitants from 181 countries. It is important that all newcomers to the region, whether they come from other places in Norway or other countries, are introduced to some networks that can be of great benefit both professionally and privately.
X-ALT-DESC:Stavanger has inhabitants from 181 countries. It is important that all newcomers to the region, whether they come from other places in Norway or other countries, are introduced to some networks that can be of great benefit both professionally and privately.
LOCATION:Rosenkildehuset
END:VEVENT


END:VCALENDAR



