
BEGIN:VCALENDAR
VERSION:2.0
PRODID:-//MarkedsPartner AS//Umbraco CMS//NO
TIMEZONE-ID:Europe/Oslo
X-WR-TIMEZONE:Europe/Oslo


BEGIN:VEVENT
UID:f8a5d391c9d74a6fa9a5597f22d5a5d1
URL:https://stavangernaering-2023.azurewebsites.net/en/events/archive/new-in-town-270820/
ORGANIZER;CN=Ola Normann:MAILTO:ola.normann@markedspartner.no
DTSTAMP:20200827T170000Z
DTSTART:20200827T170000Z
DTEND:20200827T190000Z
LAST-MODIFIED:20200831T091514Z
SUMMARY:New in town? 
DESCRIPTION:Networking and new friendships are crucial to well-being  as a newcomer.
X-ALT-DESC:Networking and new friendships are crucial to well-being  as a newcomer.
LOCATION:Rosenkildehuset
END:VEVENT


END:VCALENDAR



