
BEGIN:VCALENDAR
VERSION:2.0
PRODID:-//MarkedsPartner AS//Umbraco CMS//NO
TIMEZONE-ID:Europe/Oslo
X-WR-TIMEZONE:Europe/Oslo


BEGIN:VEVENT
UID:a8aabaae614d400595d46ff1d738e0ec
URL:https://stavangernaering-2023.azurewebsites.net/en/events/archive/new-in-town-1/
ORGANIZER;CN=Ola Normann:MAILTO:ola.normann@markedspartner.no
DTSTAMP:20220406T100000Z
DTSTART:20220406T100000Z
DTEND:20220406T130000Z
LAST-MODIFIED:20220406T142836Z
SUMMARY:New in town: Welcome Ukrainian students
DESCRIPTION:Summer jobs and part-time jobs
X-ALT-DESC:Summer jobs and part-time jobs
LOCATION:Rosenkildehuset
END:VEVENT


END:VCALENDAR



