
BEGIN:VCALENDAR
VERSION:2.0
PRODID:-//MarkedsPartner AS//Umbraco CMS//NO
TIMEZONE-ID:Europe/Oslo
X-WR-TIMEZONE:Europe/Oslo


BEGIN:VEVENT
UID:11c41502564342c3ae195a9f34c97a7a
URL:https://stavangernaering-2023.azurewebsites.net/en/events/archive/neb-star-event_jan2024/
ORGANIZER;CN=Ola Normann:MAILTO:ola.normann@markedspartner.no
DTSTAMP:20250122T173000Z
DTSTART:20250122T173000Z
DTEND:20250122T200000Z
LAST-MODIFIED:20250122T204102Z
SUMMARY:Turning ideas into business!
DESCRIPTION:Beautiful. Sustainable. Together. These are words used to describe the New European Bauhaus (NEB), a creative initiative that connects Europeans and their living spaces and experiences with the transformational European Green Deal.
X-ALT-DESC:Beautiful. Sustainable. Together. These are words used to describe the New European Bauhaus (NEB), a creative initiative that connects Europeans and their living spaces and experiences with the transformational European Green Deal.
LOCATION:Rosenkildehuset
END:VEVENT


END:VCALENDAR



