
BEGIN:VCALENDAR
VERSION:2.0
PRODID:-//MarkedsPartner AS//Umbraco CMS//NO
TIMEZONE-ID:Europe/Oslo
X-WR-TIMEZONE:Europe/Oslo


BEGIN:VEVENT
UID:74114fe83d124889b2d98127ccc3cfbc
URL:https://stavangernaering-2023.azurewebsites.net/en/events/archive/my-new-hobby-volunteering_220920/
ORGANIZER;CN=Ola Normann:MAILTO:ola.normann@markedspartner.no
DTSTAMP:20200922T163000Z
DTSTART:20200922T163000Z
DTEND:20200922T190000Z
LAST-MODIFIED:20200922T191449Z
SUMMARY:My new hobby: VOLUNTEERING
DESCRIPTION:This event is all about taking part in the local society by volunteering.
X-ALT-DESC:This event is all about taking part in the local society by volunteering.
LOCATION:Rosenkildehuset
END:VEVENT


END:VCALENDAR



