
BEGIN:VCALENDAR
VERSION:2.0
PRODID:-//MarkedsPartner AS//Umbraco CMS//NO
TIMEZONE-ID:Europe/Oslo
X-WR-TIMEZONE:Europe/Oslo


BEGIN:VEVENT
UID:ad52f72374fd43139d3b8cc506626f1f
URL:https://stavangernaering-2023.azurewebsites.net/en/events/archive/my-new-hobby-cooking_121020/
ORGANIZER;CN=Ola Normann:MAILTO:ola.normann@markedspartner.no
DTSTAMP:20201012T163000Z
DTSTART:20201012T163000Z
DTEND:20201012T190000Z
LAST-MODIFIED:20201015T153216Z
SUMMARY:My new hobby: Cooking
DESCRIPTION:Interested in cooking? At this event you will learn about local ingredients, traditions and of course exciting recipes you can try out at home.
X-ALT-DESC:Interested in cooking? At this event you will learn about local ingredients, traditions and of course exciting recipes you can try out at home.
LOCATION:Rosenkildehuset
END:VEVENT


END:VCALENDAR



