
BEGIN:VCALENDAR
VERSION:2.0
PRODID:-//MarkedsPartner AS//Umbraco CMS//NO
TIMEZONE-ID:Europe/Oslo
X-WR-TIMEZONE:Europe/Oslo


BEGIN:VEVENT
UID:e1f5d006d8f748be900f947c85bc09b8
URL:https://stavangernaering-2023.azurewebsites.net/en/events/archive/mushroom-picking/
ORGANIZER;CN=Ola Normann:MAILTO:ola.normann@markedspartner.no
DTSTAMP:20200822T100000Z
DTSTART:20200822T100000Z
DTEND:20200822T140000Z
LAST-MODIFIED:20200827T103414Z
SUMMARY:Mushroom Picking.
DESCRIPTION:
X-ALT-DESC:
LOCATION:to be advised
END:VEVENT


END:VCALENDAR



