
BEGIN:VCALENDAR
VERSION:2.0
PRODID:-//MarkedsPartner AS//Umbraco CMS//NO
TIMEZONE-ID:Europe/Oslo
X-WR-TIMEZONE:Europe/Oslo


BEGIN:VEVENT
UID:2d76f7e050a944e9b05aed0cd410cfe0
URL:https://stavangernaering-2023.azurewebsites.net/en/events/archive/mushroom-picking-1/
ORGANIZER;CN=Ola Normann:MAILTO:ola.normann@markedspartner.no
DTSTAMP:20240818T120000Z
DTSTART:20240818T120000Z
DTEND:20240818T170000Z
LAST-MODIFIED:20240821T064137Z
SUMMARY:Mushroom Picking in Ryfylke!
DESCRIPTION:Forests in Norway are real treasures if you like foraging for food. The wet summers give excellent conditions for mushrooms, and the forests are usually full of them. Do you want to pick mushrooms but not sure which ones are edible? Then join us in this informative trip where we will only a couple of types that are safe to pick.
X-ALT-DESC:Forests in Norway are real treasures if you like foraging for food. The wet summers give excellent conditions for mushrooms, and the forests are usually full of them. Do you want to pick mushrooms but not sure which ones are edible? Then join us in this informative trip where we will only a couple of types that are safe to pick.
LOCATION:Rand&#248;y
END:VEVENT


END:VCALENDAR



