
BEGIN:VCALENDAR
VERSION:2.0
PRODID:-//MarkedsPartner AS//Umbraco CMS//NO
TIMEZONE-ID:Europe/Oslo
X-WR-TIMEZONE:Europe/Oslo


BEGIN:VEVENT
UID:cc08ccfc515e49388c06fa4aa181c440
URL:https://stavangernaering-2023.azurewebsites.net/en/events/archive/morning-session_march2022/
ORGANIZER;CN=Ola Normann:MAILTO:ola.normann@markedspartner.no
DTSTAMP:20220322T090000Z
DTSTART:20220322T090000Z
DTEND:20220322T103000Z
LAST-MODIFIED:20220324T115118Z
SUMMARY:Morning session: Norwegian Art
DESCRIPTION:Join us for a visit to the BGE Art Gallery!
X-ALT-DESC:Join us for a visit to the BGE Art Gallery!
LOCATION:BGE Contemporary  Art Projects, Engelsminnegaten 17, 4008 Stavanger
END:VEVENT


END:VCALENDAR



