
BEGIN:VCALENDAR
VERSION:2.0
PRODID:-//MarkedsPartner AS//Umbraco CMS//NO
TIMEZONE-ID:Europe/Oslo
X-WR-TIMEZONE:Europe/Oslo


BEGIN:VEVENT
UID:49d23ff8cf4e45558dd100f072fa6626
URL:https://stavangernaering-2023.azurewebsites.net/en/events/archive/morning-session-iss-2022-2-1/
ORGANIZER;CN=Ola Normann:MAILTO:ola.normann@markedspartner.no
DTSTAMP:20221025T070000Z
DTSTART:20221025T070000Z
DTEND:20221025T083000Z
LAST-MODIFIED:20221027T070546Z
SUMMARY:Morning Connections:  Healthy life
DESCRIPTION:ISS (International School of Stavanger) host Morning Connections for all newcomers to the region.
X-ALT-DESC:ISS (International School of Stavanger) host Morning Connections for all newcomers to the region.
LOCATION:ISS, Treskeveien 3, 4043 Hafrsfjord
END:VEVENT


END:VCALENDAR



