
BEGIN:VCALENDAR
VERSION:2.0
PRODID:-//MarkedsPartner AS//Umbraco CMS//NO
TIMEZONE-ID:Europe/Oslo
X-WR-TIMEZONE:Europe/Oslo


BEGIN:VEVENT
UID:f36d069028b84759bc76310a3e542fa1
URL:https://stavangernaering-2023.azurewebsites.net/en/events/archive/morning-session-iss-2022-1/
ORGANIZER;CN=Ola Normann:MAILTO:ola.normann@markedspartner.no
DTSTAMP:20220920T064000Z
DTSTART:20220920T064000Z
DTEND:20220920T081000Z
LAST-MODIFIED:20221022T145120Z
SUMMARY:Morning session:  Living and working in the Stavanger-area
DESCRIPTION:ISS (International School of Stavanger) host an open Morning Connection event  for all newcomers to the region.
X-ALT-DESC:ISS (International School of Stavanger) host an open Morning Connection event  for all newcomers to the region.
LOCATION:ISS Theatre, Treskeveien 3, 4043 Hafrsfjord
END:VEVENT


END:VCALENDAR



